BEGIN:VCALENDAR
VERSION:2.0
PRODID:-//eventon.com NONSGML v1.0//EN
BEGIN:VEVENT
UID:69e9d6c3314b8
DTSTAMP:20260423T022227
DTSTART:20210817T000000Z
DTEND:20210817T020000Z
TZID:America/Guatemala
LOCATION:
SUMMARY:Servicio Familiar - Lunes
DESCRIPTION: Servicio Familiar - Lunes\nhttps://www.ebenezer.org.gt/events/servicio-familiar-5/var/event_access
URL:https://www.ebenezer.org.gt/events/servicio-familiar-5/var/event_access
END:VEVENT
END:VCALENDAR