BEGIN:VCALENDAR
VERSION:2.0
PRODID:-//eventon.com NONSGML v1.0//EN
BEGIN:VEVENT
UID:69e5bc1d384e1
DTSTAMP:20260419T233941
DTSTART:20220607T000000Z
DTEND:20220607T023000Z
TZID:America/Guatemala
LOCATION:
SUMMARY:Servicio Familiar
DESCRIPTION: Servicio Familiar\nhttps://www.ebenezer.org.gt/events/servicio-familiar-33/var/event_access
URL:https://www.ebenezer.org.gt/events/servicio-familiar-33/var/event_access
END:VEVENT
END:VCALENDAR