BEGIN:VCALENDAR
VERSION:2.0
PRODID:-//eventon.com NONSGML v1.0//EN
BEGIN:VEVENT
UID:69e5e1c0bb774
DTSTAMP:20260420T022016
DTSTART:20211012T000000Z
DTEND:20211012T020000Z
TZID:America/Guatemala
LOCATION:
SUMMARY:Servicio Familiar
DESCRIPTION: Servicio Familiar\nhttps://www.ebenezer.org.gt/events/servicio-familiar-9/var/event_access
URL:https://www.ebenezer.org.gt/events/servicio-familiar-9/var/event_access
END:VEVENT
END:VCALENDAR