BEGIN:VCALENDAR
VERSION:2.0
PRODID:-//eventon.com NONSGML v1.0//EN
BEGIN:VEVENT
UID:69e5e203eb505
DTSTAMP:20260420T022123
DTSTART:20211003T133000Z
DTEND:20211003T151500Z
TZID:America/Guatemala
LOCATION:
SUMMARY:Primer Servicio - Santa Cena Virtual
DESCRIPTION: Primer Servicio - Santa Cena Virtual\nhttps://www.ebenezer.org.gt/events/primer-servicio-santa-cena-virtual-3/var/event_access
URL:https://www.ebenezer.org.gt/events/primer-servicio-santa-cena-virtual-3/var/event_access
END:VEVENT
END:VCALENDAR